BEGIN:VCALENDAR
VERSION:2.0
PRODID:-//http://www.faughernationalschool.ie - ECPv6.10.1//NONSGML v1.0//EN
CALSCALE:GREGORIAN
METHOD:PUBLISH
X-ORIGINAL-URL:http://www.faughernationalschool.ie
X-WR-CALDESC:Events for http://www.faughernationalschool.ie
REFRESH-INTERVAL;VALUE=DURATION:PT1H
X-Robots-Tag:noindex
X-PUBLISHED-TTL:PT1H
BEGIN:VTIMEZONE
TZID:UTC
BEGIN:STANDARD
TZOFFSETFROM:+0000
TZOFFSETTO:+0000
TZNAME:UTC
DTSTART:20240101T000000
END:STANDARD
END:VTIMEZONE
BEGIN:VEVENT
DTSTART;TZID=UTC:20240408T092000
DTEND;TZID=UTC:20240408T150000
DTSTAMP:20260421T224643
CREATED:20231023T133805Z
LAST-MODIFIED:20231023T133805Z
UID:4099-1712568000-1712588400@www.faughernationalschool.ie
SUMMARY:School Re-opens for Term 3
DESCRIPTION:
URL:http://www.faughernationalschool.ie/event/school-re-opens-for-term-3/
END:VEVENT
END:VCALENDAR