BEGIN:VCALENDAR
VERSION:2.0
PRODID:-//http://www.faughernationalschool.ie - ECPv6.10.1//NONSGML v1.0//EN
CALSCALE:GREGORIAN
METHOD:PUBLISH
X-WR-CALNAME:http://www.faughernationalschool.ie
X-ORIGINAL-URL:http://www.faughernationalschool.ie
X-WR-CALDESC:Events for http://www.faughernationalschool.ie
REFRESH-INTERVAL;VALUE=DURATION:PT1H
X-Robots-Tag:noindex
X-PUBLISHED-TTL:PT1H
BEGIN:VTIMEZONE
TZID:UTC
BEGIN:STANDARD
TZOFFSETFROM:+0000
TZOFFSETTO:+0000
TZNAME:UTC
DTSTART:20240101T000000
END:STANDARD
END:VTIMEZONE
BEGIN:VEVENT
DTSTART;TZID=UTC:20240202T113000
DTEND;TZID=UTC:20240202T140000
DTSTAMP:20260422T015228
CREATED:20231113T143816Z
LAST-MODIFIED:20231113T143816Z
UID:4125-1706873400-1706882400@www.faughernationalschool.ie
SUMMARY:Swimming Lessons
DESCRIPTION:
URL:http://www.faughernationalschool.ie/event/swimming-lessons-5/
END:VEVENT
BEGIN:VEVENT
DTSTART;VALUE=DATE:20240205
DTEND;VALUE=DATE:20240206
DTSTAMP:20260422T015228
CREATED:20231023T133340Z
LAST-MODIFIED:20231023T133340Z
UID:4091-1707091200-1707177599@www.faughernationalschool.ie
SUMMARY:Lá Fhéile Bríde - School Closed
DESCRIPTION:
URL:http://www.faughernationalschool.ie/event/la-fheile-bride-school-closed/
LOCATION:Faugher N.S.\, portnablagh\, Ireland
END:VEVENT
BEGIN:VEVENT
DTSTART;TZID=UTC:20240209T113000
DTEND;TZID=UTC:20240209T140000
DTSTAMP:20260422T015228
CREATED:20231113T143849Z
LAST-MODIFIED:20231113T143849Z
UID:4127-1707478200-1707487200@www.faughernationalschool.ie
SUMMARY:Swimming Lessons
DESCRIPTION:
URL:http://www.faughernationalschool.ie/event/swimming-lessons-6/
END:VEVENT
BEGIN:VEVENT
DTSTART;VALUE=DATE:20240215
DTEND;VALUE=DATE:20240217
DTSTAMP:20260422T015228
CREATED:20231023T133504Z
LAST-MODIFIED:20231023T133504Z
UID:4093-1707955200-1708127999@www.faughernationalschool.ie
SUMMARY:Mid-Term Break - School Closed
DESCRIPTION:
URL:http://www.faughernationalschool.ie/event/mid-term-break-school-closed/
END:VEVENT
END:VCALENDAR