BEGIN:VCALENDAR
VERSION:2.0
PRODID:-//http://www.faughernationalschool.ie - ECPv6.10.1//NONSGML v1.0//EN
CALSCALE:GREGORIAN
METHOD:PUBLISH
X-WR-CALNAME:http://www.faughernationalschool.ie
X-ORIGINAL-URL:http://www.faughernationalschool.ie
X-WR-CALDESC:Events for http://www.faughernationalschool.ie
REFRESH-INTERVAL;VALUE=DURATION:PT1H
X-Robots-Tag:noindex
X-PUBLISHED-TTL:PT1H
BEGIN:VTIMEZONE
TZID:UTC
BEGIN:STANDARD
TZOFFSETFROM:+0000
TZOFFSETTO:+0000
TZNAME:UTC
DTSTART:20240101T000000
END:STANDARD
END:VTIMEZONE
BEGIN:VEVENT
DTSTART;TZID=UTC:20240108T092000
DTEND;TZID=UTC:20240108T150000
DTSTAMP:20260422T032720
CREATED:20231023T133234Z
LAST-MODIFIED:20231023T133234Z
UID:4089-1704705600-1704726000@www.faughernationalschool.ie
SUMMARY:School Re-Opens for Term 2
DESCRIPTION:
URL:http://www.faughernationalschool.ie/event/school-re-opens-for-term-2/
LOCATION:Faugher N.S.\, portnablagh\, Ireland
END:VEVENT
BEGIN:VEVENT
DTSTART;TZID=UTC:20240112T113000
DTEND;TZID=UTC:20240112T140000
DTSTAMP:20260422T032720
CREATED:20231113T143628Z
LAST-MODIFIED:20231113T143628Z
UID:4119-1705059000-1705068000@www.faughernationalschool.ie
SUMMARY:Swimming Lessons Begin
DESCRIPTION:
URL:http://www.faughernationalschool.ie/event/swimming-lessons-begin/
END:VEVENT
BEGIN:VEVENT
DTSTART;TZID=UTC:20240119T113000
DTEND;TZID=UTC:20240119T140000
DTSTAMP:20260422T032720
CREATED:20231113T143700Z
LAST-MODIFIED:20231113T143700Z
UID:4121-1705663800-1705672800@www.faughernationalschool.ie
SUMMARY:Swimming Lessons
DESCRIPTION:
URL:http://www.faughernationalschool.ie/event/swimming-lessons-3/
END:VEVENT
BEGIN:VEVENT
DTSTART;TZID=UTC:20240126T113000
DTEND;TZID=UTC:20240126T140000
DTSTAMP:20260422T032720
CREATED:20231113T143727Z
LAST-MODIFIED:20231113T143727Z
UID:4123-1706268600-1706277600@www.faughernationalschool.ie
SUMMARY:Swimming Lessons
DESCRIPTION:
URL:http://www.faughernationalschool.ie/event/swimming-lessons-4/
END:VEVENT
END:VCALENDAR