BEGIN:VCALENDAR
VERSION:2.0
PRODID:-//http://www.faughernationalschool.ie - ECPv6.10.1//NONSGML v1.0//EN
CALSCALE:GREGORIAN
METHOD:PUBLISH
X-WR-CALNAME:http://www.faughernationalschool.ie
X-ORIGINAL-URL:http://www.faughernationalschool.ie
X-WR-CALDESC:Events for http://www.faughernationalschool.ie
REFRESH-INTERVAL;VALUE=DURATION:PT1H
X-Robots-Tag:noindex
X-PUBLISHED-TTL:PT1H
BEGIN:VTIMEZONE
TZID:UTC
BEGIN:STANDARD
TZOFFSETFROM:+0000
TZOFFSETTO:+0000
TZNAME:UTC
DTSTART:20230101T000000
END:STANDARD
END:VTIMEZONE
BEGIN:VEVENT
DTSTART;TZID=UTC:20231026T133000
DTEND;TZID=UTC:20231026T143000
DTSTAMP:20260422T083134
CREATED:20231023T132414Z
LAST-MODIFIED:20231023T132414Z
UID:4079-1698327000-1698330600@www.faughernationalschool.ie
SUMMARY:Coffee Afternoon 1.30pm to 2.30pm
DESCRIPTION:Coffee Afternoon in aid of Pieta House as part of our Amber Flag initiative.  All are welcome!
URL:http://www.faughernationalschool.ie/event/coffee-afternoon-1-30pm-to-2-30pm/
LOCATION:Faugher N.S.\, portnablagh\, Ireland
CATEGORIES:Educational,Fundraising
END:VEVENT
BEGIN:VEVENT
DTSTART;TZID=UTC:20231027T092000
DTEND;TZID=UTC:20231027T120000
DTSTAMP:20260422T083134
CREATED:20231023T132721Z
LAST-MODIFIED:20231023T132721Z
UID:4081-1698398400-1698408000@www.faughernationalschool.ie
SUMMARY:Halloween Fancy Dress
DESCRIPTION:Annual Halloween Fancy Dress
URL:http://www.faughernationalschool.ie/event/halloween-fancy-dress-2/
LOCATION:Faugher N.S.\, portnablagh\, Ireland
CATEGORIES:Art,Drama
END:VEVENT
BEGIN:VEVENT
DTSTART;TZID=UTC:20231027T120000
DTEND;TZID=UTC:20231027T120000
DTSTAMP:20260422T083134
CREATED:20231023T132853Z
LAST-MODIFIED:20231023T132853Z
UID:4083-1698408000-1698408000@www.faughernationalschool.ie
SUMMARY:School Closes for Mid-Term Break
DESCRIPTION:
URL:http://www.faughernationalschool.ie/event/school-closes-for-mid-term-break/
LOCATION:Faugher N.S.\, portnablagh\, Ireland
END:VEVENT
END:VCALENDAR