BEGIN:VCALENDAR
VERSION:2.0
PRODID:-//http://www.faughernationalschool.ie - ECPv6.10.1//NONSGML v1.0//EN
CALSCALE:GREGORIAN
METHOD:PUBLISH
X-WR-CALNAME:http://www.faughernationalschool.ie
X-ORIGINAL-URL:http://www.faughernationalschool.ie
X-WR-CALDESC:Events for http://www.faughernationalschool.ie
REFRESH-INTERVAL;VALUE=DURATION:PT1H
X-Robots-Tag:noindex
X-PUBLISHED-TTL:PT1H
BEGIN:VTIMEZONE
TZID:UTC
BEGIN:STANDARD
TZOFFSETFROM:+0000
TZOFFSETTO:+0000
TZNAME:UTC
DTSTART:20200101T000000
END:STANDARD
END:VTIMEZONE
BEGIN:VEVENT
DTSTART;VALUE=DATE:20200310
DTEND;VALUE=DATE:20200311
DTSTAMP:20260424T162753
CREATED:20200309T155854Z
LAST-MODIFIED:20200309T155854Z
UID:4010-1583798400-1583884799@www.faughernationalschool.ie
SUMMARY:GAA football with Coach John Ward
DESCRIPTION:The Junior Room will do GAA football from 1-2pm. \nThe Senior Room will do GAA football from 2-3pm.
URL:http://www.faughernationalschool.ie/event/gaa-football-with-coach-john-ward/
CATEGORIES:Educational,Sport
END:VEVENT
BEGIN:VEVENT
DTSTART;TZID=UTC:20200312T190000
DTEND;TZID=UTC:20200312T200000
DTSTAMP:20260424T162753
CREATED:20200304T145116Z
LAST-MODIFIED:20200304T145116Z
UID:3975-1584039600-1584043200@www.faughernationalschool.ie
SUMMARY:Stay Safe Information Session for Parents
DESCRIPTION:Information evening on the Stay Safe programme in the Shandon Hotel from 7.00 pm to 8.00pm. All parents are welcome.
URL:http://www.faughernationalschool.ie/event/stay-safe-information-session-for-parents/
CATEGORIES:Educational
ATTACH;FMTTYPE=image/png:http://www.faughernationalschool.ie/wp-content/uploads/2020/03/stay_safe_pic.png
END:VEVENT
BEGIN:VEVENT
DTSTART;TZID=UTC:20200313T130000
DTEND;TZID=UTC:20200313T143000
DTSTAMP:20260424T162753
CREATED:20200304T144558Z
LAST-MODIFIED:20200309T154239Z
UID:3972-1584104400-1584109800@www.faughernationalschool.ie
SUMMARY:Ceilí Mór
DESCRIPTION:Join us for some Ceilí dancing in Ballymore Hall at 1.00pm to 2.30pm. Bígí linn!
URL:http://www.faughernationalschool.ie/event/ceili-mor/
ATTACH;FMTTYPE=image/jpeg:http://www.faughernationalschool.ie/wp-content/uploads/2020/03/st_patricks_day.jpg
END:VEVENT
BEGIN:VEVENT
DTSTART;TZID=UTC:20200314T120000
DTEND;TZID=UTC:20200314T133000
DTSTAMP:20260424T162753
CREATED:20200304T111649Z
LAST-MODIFIED:20200304T114049Z
UID:3965-1584187200-1584192600@www.faughernationalschool.ie
SUMMARY:Confirmation Day
DESCRIPTION:Confirmation Day for Faugher National School will take place on Saturday March 14th in St. Michael’s Church\, Creeslough.
URL:http://www.faughernationalschool.ie/event/confirmation-day/
LOCATION:St. Michael’s Church\, Creeslough
ATTACH;FMTTYPE=image/jpeg:http://www.faughernationalschool.ie/wp-content/uploads/2020/03/St._Michaels_Church.jpg
ORGANIZER;CN="Dolores O'Neill":MAILTO:faugherschool@gmail.com
END:VEVENT
BEGIN:VEVENT
DTSTART;TZID=UTC:20200316T080000
DTEND;TZID=UTC:20200317T150000
DTSTAMP:20260424T162753
CREATED:20200304T145359Z
LAST-MODIFIED:20200309T154402Z
UID:3978-1584345600-1584457200@www.faughernationalschool.ie
SUMMARY:School Closure
DESCRIPTION:School will be closed on Monday 16th March and Tuesday 17th March for St.Patrick’s Weekend.
URL:http://www.faughernationalschool.ie/event/school-closure/
ATTACH;FMTTYPE=image/jpeg:http://www.faughernationalschool.ie/wp-content/uploads/2020/03/ceili_dance.jpg
END:VEVENT
BEGIN:VEVENT
DTSTART;TZID=UTC:20200324T080000
DTEND;TZID=UTC:20200324T170000
DTSTAMP:20260424T162753
CREATED:20200309T160010Z
LAST-MODIFIED:20200309T160010Z
UID:4012-1585036800-1585069200@www.faughernationalschool.ie
SUMMARY:GAA football with Coach John Ward
DESCRIPTION:The Junior Room will do GAA football from 1-2pm. \nThe Senior Room will do GAA football from 2-3pm.
URL:http://www.faughernationalschool.ie/event/gaa-football-with-coach-john-ward-2/
CATEGORIES:Educational,Sport
END:VEVENT
BEGIN:VEVENT
DTSTART;TZID=UTC:20200327T110000
DTEND;TZID=UTC:20200327T130000
DTSTAMP:20260424T162753
CREATED:20200304T145708Z
LAST-MODIFIED:20200304T145708Z
UID:3980-1585306800-1585314000@www.faughernationalschool.ie
SUMMARY:Science Fair
DESCRIPTION:The Senior Room pupils will be showcasing some fun science experiments in Holy Trinity Hall\, Dunfanaghy.
URL:http://www.faughernationalschool.ie/event/science-fair/
CATEGORIES:Educational,Science
END:VEVENT
BEGIN:VEVENT
DTSTART;TZID=UTC:20200330T120000
DTEND;TZID=UTC:20200330T150000
DTSTAMP:20260424T162753
CREATED:20200306T100709Z
LAST-MODIFIED:20200306T100830Z
UID:3996-1585569600-1585580400@www.faughernationalschool.ie
SUMMARY:Half Day School Closure
DESCRIPTION:School will close at 12 noon to facilitate Primary Language Curriculum Seminar
URL:http://www.faughernationalschool.ie/event/half-day-school-closure/
END:VEVENT
BEGIN:VEVENT
DTSTART;TZID=UTC:20200331T080000
DTEND;TZID=UTC:20200331T170000
DTSTAMP:20260424T162753
CREATED:20200309T160053Z
LAST-MODIFIED:20200309T160053Z
UID:4014-1585641600-1585674000@www.faughernationalschool.ie
SUMMARY:GAA football with Coach John Ward
DESCRIPTION:The Junior Room will do GAA football from 1-2pm. \nThe Senior Room will do GAA football from 2-3pm.
URL:http://www.faughernationalschool.ie/event/gaa-football-with-coach-john-ward-3/
CATEGORIES:Educational,Physical Education,Sport
END:VEVENT
END:VCALENDAR