BEGIN:VCALENDAR
VERSION:2.0
PRODID:-//http://www.faughernationalschool.ie - ECPv6.10.1//NONSGML v1.0//EN
CALSCALE:GREGORIAN
METHOD:PUBLISH
X-ORIGINAL-URL:http://www.faughernationalschool.ie
X-WR-CALDESC:Events for http://www.faughernationalschool.ie
REFRESH-INTERVAL;VALUE=DURATION:PT1H
X-Robots-Tag:noindex
X-PUBLISHED-TTL:PT1H
BEGIN:VTIMEZONE
TZID:UTC
BEGIN:STANDARD
TZOFFSETFROM:+0000
TZOFFSETTO:+0000
TZNAME:UTC
DTSTART:20240101T000000
END:STANDARD
END:VTIMEZONE
BEGIN:VEVENT
DTSTART;VALUE=DATE:20240603
DTEND;VALUE=DATE:20240604
DTSTAMP:20260421T225410
CREATED:20231023T134033Z
LAST-MODIFIED:20231023T134033Z
UID:4103-1717372800-1717459199@www.faughernationalschool.ie
SUMMARY:June Bank Holiday - School Closed
DESCRIPTION:
URL:http://www.faughernationalschool.ie/event/june-bank-holiday-school-closed/
END:VEVENT
BEGIN:VEVENT
DTSTART;TZID=UTC:20240621T120000
DTEND;TZID=UTC:20240621T120000
DTSTAMP:20260421T225410
CREATED:20231023T134207Z
LAST-MODIFIED:20231023T134207Z
UID:4105-1718971200-1718971200@www.faughernationalschool.ie
SUMMARY:School Closes for Summer Holidays
DESCRIPTION:
URL:http://www.faughernationalschool.ie/event/school-closes-for-summer-holidays/
END:VEVENT
END:VCALENDAR