BEGIN:VCALENDAR
VERSION:2.0
PRODID:-//http://www.faughernationalschool.ie - ECPv6.10.1//NONSGML v1.0//EN
CALSCALE:GREGORIAN
METHOD:PUBLISH
X-WR-CALNAME:http://www.faughernationalschool.ie
X-ORIGINAL-URL:http://www.faughernationalschool.ie
X-WR-CALDESC:Events for http://www.faughernationalschool.ie
REFRESH-INTERVAL;VALUE=DURATION:PT1H
X-Robots-Tag:noindex
X-PUBLISHED-TTL:PT1H
BEGIN:VTIMEZONE
TZID:UTC
BEGIN:STANDARD
TZOFFSETFROM:+0000
TZOFFSETTO:+0000
TZNAME:UTC
DTSTART:20240101T000000
END:STANDARD
END:VTIMEZONE
BEGIN:VEVENT
DTSTART;TZID=UTC:20240108T092000
DTEND;TZID=UTC:20240108T150000
DTSTAMP:20260422T050019
CREATED:20231023T133234Z
LAST-MODIFIED:20231023T133234Z
UID:4089-1704705600-1704726000@www.faughernationalschool.ie
SUMMARY:School Re-Opens for Term 2
DESCRIPTION:
URL:http://www.faughernationalschool.ie/event/school-re-opens-for-term-2/
LOCATION:Faugher N.S.\, portnablagh\, Ireland
END:VEVENT
END:VCALENDAR