BEGIN:VCALENDAR
VERSION:2.0
PRODID:-//http://www.faughernationalschool.ie - ECPv6.10.1//NONSGML v1.0//EN
CALSCALE:GREGORIAN
METHOD:PUBLISH
X-WR-CALNAME:http://www.faughernationalschool.ie
X-ORIGINAL-URL:http://www.faughernationalschool.ie
X-WR-CALDESC:Events for http://www.faughernationalschool.ie
REFRESH-INTERVAL;VALUE=DURATION:PT1H
X-Robots-Tag:noindex
X-PUBLISHED-TTL:PT1H
BEGIN:VTIMEZONE
TZID:UTC
BEGIN:STANDARD
TZOFFSETFROM:+0000
TZOFFSETTO:+0000
TZNAME:UTC
DTSTART:20200101T000000
END:STANDARD
END:VTIMEZONE
BEGIN:VEVENT
DTSTART;TZID=UTC:20200404T000000
DTEND;TZID=UTC:20200419T000000
DTSTAMP:20260424T180740
CREATED:20200304T150156Z
LAST-MODIFIED:20200309T155516Z
UID:3984-1585958400-1587254400@www.faughernationalschool.ie
SUMMARY:Easter Holidays
DESCRIPTION:
URL:http://www.faughernationalschool.ie/event/easter-holidays-2/
ATTACH;FMTTYPE=image/jpeg:http://www.faughernationalschool.ie/wp-content/uploads/2020/03/happy_easter.jpg
END:VEVENT
END:VCALENDAR