BEGIN:VCALENDAR
VERSION:2.0
PRODID:-//http://www.faughernationalschool.ie - ECPv6.10.1//NONSGML v1.0//EN
CALSCALE:GREGORIAN
METHOD:PUBLISH
X-WR-CALNAME:http://www.faughernationalschool.ie
X-ORIGINAL-URL:http://www.faughernationalschool.ie
X-WR-CALDESC:Events for http://www.faughernationalschool.ie
REFRESH-INTERVAL;VALUE=DURATION:PT1H
X-Robots-Tag:noindex
X-PUBLISHED-TTL:PT1H
BEGIN:VTIMEZONE
TZID:UTC
BEGIN:STANDARD
TZOFFSETFROM:+0000
TZOFFSETTO:+0000
TZNAME:UTC
DTSTART:20200101T000000
END:STANDARD
END:VTIMEZONE
BEGIN:VEVENT
DTSTART;VALUE=DATE:20200403
DTEND;VALUE=DATE:20200404
DTSTAMP:20260424T180738
CREATED:20200306T094747Z
LAST-MODIFIED:20200309T155629Z
UID:3993-1585872000-1585958399@www.faughernationalschool.ie
SUMMARY:Easter Holidays Closure
DESCRIPTION:School closes at 12pm for the Easter Holidays. Enjoy the break!
URL:http://www.faughernationalschool.ie/event/easter-holidays-3/
ATTACH;FMTTYPE=image/jpeg:http://www.faughernationalschool.ie/wp-content/uploads/2020/03/easter_hols.jpg
END:VEVENT
END:VCALENDAR