BEGIN:VCALENDAR
VERSION:2.0
PRODID:-//http://www.faughernationalschool.ie - ECPv6.10.1//NONSGML v1.0//EN
CALSCALE:GREGORIAN
METHOD:PUBLISH
X-WR-CALNAME:http://www.faughernationalschool.ie
X-ORIGINAL-URL:http://www.faughernationalschool.ie
X-WR-CALDESC:Events for http://www.faughernationalschool.ie
REFRESH-INTERVAL;VALUE=DURATION:PT1H
X-Robots-Tag:noindex
X-PUBLISHED-TTL:PT1H
BEGIN:VTIMEZONE
TZID:UTC
BEGIN:STANDARD
TZOFFSETFROM:+0000
TZOFFSETTO:+0000
TZNAME:UTC
DTSTART:20170101T000000
END:STANDARD
END:VTIMEZONE
BEGIN:VEVENT
DTSTART;VALUE=DATE:20170317
DTEND;VALUE=DATE:20170318
DTSTAMP:20260424T132048
CREATED:20160920T154149Z
LAST-MODIFIED:20160920T154149Z
UID:3879-1489708800-1489795199@www.faughernationalschool.ie
SUMMARY:St Patrick's Day
DESCRIPTION:School will be closed this day.
URL:http://www.faughernationalschool.ie/event/st-patricks-day/
END:VEVENT
END:VCALENDAR