BEGIN:VCALENDAR
VERSION:2.0
PRODID:-//http://www.faughernationalschool.ie - ECPv6.10.1//NONSGML v1.0//EN
CALSCALE:GREGORIAN
METHOD:PUBLISH
X-WR-CALNAME:http://www.faughernationalschool.ie
X-ORIGINAL-URL:http://www.faughernationalschool.ie
X-WR-CALDESC:Events for http://www.faughernationalschool.ie
REFRESH-INTERVAL;VALUE=DURATION:PT1H
X-Robots-Tag:noindex
X-PUBLISHED-TTL:PT1H
BEGIN:VTIMEZONE
TZID:UTC
BEGIN:STANDARD
TZOFFSETFROM:+0000
TZOFFSETTO:+0000
TZNAME:UTC
DTSTART:20150101T000000
END:STANDARD
END:VTIMEZONE
BEGIN:VEVENT
DTSTART;TZID=UTC:20151009T090000
DTEND;TZID=UTC:20151009T150000
DTSTAMP:20260424T132108
CREATED:20151012T104231Z
LAST-MODIFIED:20151012T104231Z
UID:3317-1444381200-1444402800@www.faughernationalschool.ie
SUMMARY:No-Uniform Day
DESCRIPTION:We are having a No-Uniform Day on Friday October 9th to raise money for the Syrian Refugees.
URL:http://www.faughernationalschool.ie/event/no-uniform-day/
LOCATION:Faugher N.S.\, portnablagh\, Ireland
CATEGORIES:Fundraising
ORGANIZER;CN="Dolores O'Neill":MAILTO:faugherschool@gmail.com
END:VEVENT
END:VCALENDAR