BEGIN:VCALENDAR
VERSION:2.0
PRODID:-//http://www.faughernationalschool.ie - ECPv6.10.1//NONSGML v1.0//EN
CALSCALE:GREGORIAN
METHOD:PUBLISH
X-WR-CALNAME:http://www.faughernationalschool.ie
X-ORIGINAL-URL:http://www.faughernationalschool.ie
X-WR-CALDESC:Events for http://www.faughernationalschool.ie
REFRESH-INTERVAL;VALUE=DURATION:PT1H
X-Robots-Tag:noindex
X-PUBLISHED-TTL:PT1H
BEGIN:VTIMEZONE
TZID:UTC
BEGIN:STANDARD
TZOFFSETFROM:+0000
TZOFFSETTO:+0000
TZNAME:UTC
DTSTART:20160101T000000
END:STANDARD
END:VTIMEZONE
BEGIN:VEVENT
DTSTART;VALUE=DATE:20161019
DTEND;VALUE=DATE:20161020
DTSTAMP:20260424T132604
CREATED:20160920T151909Z
LAST-MODIFIED:20160920T151909Z
UID:3858-1476835200-1476921599@www.faughernationalschool.ie
SUMMARY:GAA Football Skills with Coach John Ward
DESCRIPTION:GAA football skills with Coach John Ward
URL:http://www.faughernationalschool.ie/event/gaa-football-skills-with-coach-john-ward-4/
LOCATION:Faugher N.S.\, portnablagh\, Ireland
CATEGORIES:Physical Education,Sport
ORGANIZER;CN="Dolores O'Neill":MAILTO:faugherschool@gmail.com
END:VEVENT
END:VCALENDAR