BEGIN:VCALENDAR
VERSION:2.0
PRODID:-//http://www.faughernationalschool.ie - ECPv6.10.1//NONSGML v1.0//EN
CALSCALE:GREGORIAN
METHOD:PUBLISH
X-WR-CALNAME:http://www.faughernationalschool.ie
X-ORIGINAL-URL:http://www.faughernationalschool.ie
X-WR-CALDESC:Events for http://www.faughernationalschool.ie
REFRESH-INTERVAL;VALUE=DURATION:PT1H
X-Robots-Tag:noindex
X-PUBLISHED-TTL:PT1H
BEGIN:VTIMEZONE
TZID:UTC
BEGIN:STANDARD
TZOFFSETFROM:+0000
TZOFFSETTO:+0000
TZNAME:UTC
DTSTART:20170101T000000
END:STANDARD
END:VTIMEZONE
BEGIN:VEVENT
DTSTART;VALUE=DATE:20170513
DTEND;VALUE=DATE:20170514
DTSTAMP:20260424T132113
CREATED:20161117T144335Z
LAST-MODIFIED:20161117T144335Z
UID:3929-1494633600-1494719999@www.faughernationalschool.ie
SUMMARY:First Holy Communion
DESCRIPTION:First Holy Communion Mass 12pm in Holy Cross Church\, Dunfanaghy
URL:http://www.faughernationalschool.ie/event/first-holy-communion-2/
LOCATION:Holy Cross Chapel\, Dunfanaghy\, Donegal\, Ireland
END:VEVENT
END:VCALENDAR