BEGIN:VCALENDAR
VERSION:2.0
PRODID:-//http://www.faughernationalschool.ie - ECPv6.10.1//NONSGML v1.0//EN
CALSCALE:GREGORIAN
METHOD:PUBLISH
X-WR-CALNAME:http://www.faughernationalschool.ie
X-ORIGINAL-URL:http://www.faughernationalschool.ie
X-WR-CALDESC:Events for http://www.faughernationalschool.ie
REFRESH-INTERVAL;VALUE=DURATION:PT1H
X-Robots-Tag:noindex
X-PUBLISHED-TTL:PT1H
BEGIN:VTIMEZONE
TZID:UTC
BEGIN:STANDARD
TZOFFSETFROM:+0000
TZOFFSETTO:+0000
TZNAME:UTC
DTSTART:20150101T000000
END:STANDARD
END:VTIMEZONE
BEGIN:VEVENT
DTSTART;TZID=UTC:20151002T090000
DTEND;TZID=UTC:20151002T150000
DTSTAMP:20260424T133734
CREATED:20151012T103827Z
LAST-MODIFIED:20151012T113201Z
UID:3313-1443776400-1443798000@www.faughernationalschool.ie
SUMMARY:Donegal Aquathlon Schools Championships
DESCRIPTION:On Friday October 2nd our Senior Class will be going to the Finn Valley Centre\, Stranorlar to take part in the Donegal Aquathlon Schools Championships
URL:http://www.faughernationalschool.ie/event/donegal-aquathlon-schools-championships/
LOCATION:Finn Valley Centre
CATEGORIES:Sport
ATTACH;FMTTYPE=image/jpeg:http://www.faughernationalschool.ie/wp-content/uploads/2015/10/triathlon1.jpg
END:VEVENT
END:VCALENDAR